BEGIN:VCALENDAR
VERSION:2.0
PRODID:-//wp-events-plugin.com//7.1.7//EN
BEGIN:VEVENT
UID:1@helpinghands4kids.org
DTSTART:20200813T183000Z
DTEND:20200813T203000Z
DTSTAMP:20200729T033647Z
URL:https://helpinghands4kids.org/events/hh4kids-board-meeting
SUMMARY:HH4Kids Board Meeting
DESCRIPTION:Meeting to plan fun things for the fall!
CATEGORIES:Board Meetings
END:VEVENT
BEGIN:VEVENT
UID:2@helpinghands4kids.org
DTSTART;VALUE=DATE:20200926
DTEND;VALUE=DATE:20200927
DTSTAMP:20200922T183436Z
URL:https://helpinghands4kids.org/events/family-health-fitness-day
SUMMARY:Family Health & Fitness Day
DESCRIPTION:Today is a day that promotes physical activity and health with 
 your loved ones.\n\nGet outside in the fresh air. Visit a park. Go on a na
 ture walk.  Family time is the best time!
END:VEVENT
BEGIN:VEVENT
UID:3@helpinghands4kids.org
DTSTART;VALUE=DATE:20201031
DTEND;VALUE=DATE:20201101
DTSTAMP:20201026T232135Z
URL:https://helpinghands4kids.org/events/happy-halloween
SUMMARY:Happy Halloween
DESCRIPTION:
END:VEVENT
BEGIN:VEVENT
UID:4@helpinghands4kids.org
DTSTART;TZID=America/Los_Angeles:20201119T190000
DTEND;TZID=America/Los_Angeles:20201119T200000
DTSTAMP:20201117T192239Z
URL:https://helpinghands4kids.org/events/virtual-bingo
SUMMARY:Virtual Bingo
DESCRIPTION:Please join us for virtual bingo to support our holiday Adopt A
  Family program!\n\nClick on this link 👉 https://bit.ly/3eFKQvQ to make
  your $10 tax deductible donation ($10 for each Bingo Card). If you would 
 prefer to pay via Venmo\, you can do so at @Patty-Leemhuis.
ATTACH;FMTTYPE=image/jpeg:https://helpinghands4kids.org/wp-content/uploads
 /2020/11/Holiday-Bingo-Graphic.png
CATEGORIES:Fundraisers
END:VEVENT
BEGIN:VEVENT
UID:5@helpinghands4kids.org
DTSTART;TZID=America/Los_Angeles;VALUE=DATE:20201126
DTEND;TZID=America/Los_Angeles;VALUE=DATE:20201127
DTSTAMP:20201124T185157Z
URL:https://helpinghands4kids.org/events/happy-thanksgiving
SUMMARY:Happy Thanksgiving!
DESCRIPTION:Happy Thanksgiving to our families\, friends and supporters.\nW
 e are grateful for each and every one of you!\n\nxo
ATTACH;FMTTYPE=image/jpeg:https://helpinghands4kids.org/wp-content/uploads
 /2020/11/We-are-Thankful-for-You.jpg
END:VEVENT
BEGIN:VEVENT
UID:6@helpinghands4kids.org
DTSTART;TZID=America/Los_Angeles:20201204T100000
DTEND;TZID=America/Los_Angeles:20201204T120000
DTSTAMP:20201129T174258Z
URL:https://helpinghands4kids.org/events/chips-for-kids-toy-drive-kick-off
SUMMARY:CHiPS for Kids Toy Drive Kick Off
DESCRIPTION:Join us for our Toy Drive Kick Off with the California Highway 
 Patrol on 12/4/20 from 10am - noon as we collect toys for children in need
 .   Toy drive is contactless and will adhere to all social distancing gu
 idelines!\n\nEach person donating a toy will receive a free yogurt courtes
 y of Yogurtland!\n\nCalifornia Highway Patrol\n13200 Goldenwest Street\nWe
 stminster\, CA 92683
CATEGORIES:Holiday Events
LOCATION:California Highway Patrol\, 13200 Goldenwest Street\, Westminster\
 , CA\, 92683\, Orange County\, United States
X-APPLE-STRUCTURED-LOCATION;VALUE=URI;X-ADDRESS=13200 Goldenwest Street\, W
 estminster\, CA\, 92683\, Orange County\, United States;X-APPLE-RADIUS=100
 ;X-TITLE=California Highway Patrol:geo:0,0
END:VEVENT
BEGIN:VEVENT
UID:7@helpinghands4kids.org
DTSTART;TZID=America/Los_Angeles:20201217T190000
DTEND;TZID=America/Los_Angeles:20201217T200000
DTSTAMP:20201214T062232Z
URL:https://helpinghands4kids.org/events/virtual-bingo-2
SUMMARY:Virtual Bingo
DESCRIPTION:Please join us for virtual bingo to help us support families in
  our community!\n\nClick on this link 👉 https://bit.ly/3eFKQvQ to make 
 your $10 tax deductible donation ($10 for each Bingo Card - One bingo card
  will work for all 3 games). If you would prefer to pay via Venmo\, you ca
 n do so at @Patty-Leemhuis.
ATTACH;FMTTYPE=image/jpeg:https://helpinghands4kids.org/wp-content/uploads
 /2020/12/Virtual-Bingo.jpg
CATEGORIES:Fundraisers
END:VEVENT
BEGIN:VEVENT
UID:8@helpinghands4kids.org
DTSTART;TZID=America/Los_Angeles;VALUE=DATE:20210110
DTEND;TZID=America/Los_Angeles;VALUE=DATE:20210111
DTSTAMP:20210102T204824Z
URL:https://helpinghands4kids.org/events/hh4kids-2021-board-meeting
SUMMARY:HH4Kids 2021 Board Meeting
DESCRIPTION:Planning meeting for some amazing things in\n\n2021!
END:VEVENT
BEGIN:VEVENT
UID:9@helpinghands4kids.org
DTSTART;TZID=America/Los_Angeles:20210218T190000
DTEND;TZID=America/Los_Angeles:20210218T200000
DTSTAMP:20210205T172858Z
URL:https://helpinghands4kids.org/events/virtual-bingo-3
SUMMARY:Virtual Bingo
DESCRIPTION:Bingo is back for 2021!  Only $10 per card and each card is go
 od for\n3 games.\n\nJoin us for our virtual game of bingo to help raise mo
 ney for\nHelping Hands 4 Kids and a chance to win prizes.\n\nCLICK HERE to
  sign up!\n\nJust a note:  we have been using Facebook Live but this mont
 h\nare transitioning to Zoom.   More details and the Zoom link will be\n
 sent when you sign up!\n\nThanks for your ongoing support!
ATTACH;FMTTYPE=image/jpeg:https://helpinghands4kids.org/wp-content/uploads
 /2021/02/Feb-Bingo-Square-Graphic-e1612546002254.jpg
CATEGORIES:Fundraisers
END:VEVENT
BEGIN:VTIMEZONE
TZID:America/Los_Angeles
X-LIC-LOCATION:America/Los_Angeles
BEGIN:STANDARD
DTSTART:20201101T010000
TZOFFSETFROM:-0700
TZOFFSETTO:-0800
TZNAME:PST
END:STANDARD
END:VTIMEZONE
END:VCALENDAR